BEGIN:VCALENDAR
VERSION:2.0
PRODID:-//SportPlan//Event Calendar//EN
CALSCALE:GREGORIAN
BEGIN:VEVENT
UID:37cc5867-c75e-4dee-ad8f-99c1ab827e65@sportplan.local
DTSTAMP:20260421T200453Z
DTSTART;VALUE=DATE:20260927
DTEND;VALUE=DATE:20260928
SUMMARY:Paris-Versailles
DESCRIPTION:Paris-Versailles aura lieu le 27 septembre 2026 à París\, avec une ambiance sportive pensée pour les participants en quête d'un défi bien organisé. L'événement permet de profiter du cadre\, de partager un beau moment avec les autres participants et de vivre une expérience dynamique du départ à l'arrivée.
LOCATION:París
URL:https://sportplan.vercel.app/ja/events/paris-versailles-paris-2026-09-27
END:VEVENT
END:VCALENDAR
