BEGIN:VCALENDAR
VERSION:2.0
PRODID:-//SportPlan//Event Calendar//EN
CALSCALE:GREGORIAN
BEGIN:VEVENT
UID:76def499-a039-4e18-8177-28c92a57ec79@sportplan.local
DTSTAMP:20260421T200549Z
DTSTART;VALUE=DATE:20260510
DTEND;VALUE=DATE:20260511
SUMMARY:Paris Saint-Germain-en-Laye
DESCRIPTION:Paris Saint-Germain-en-Laye a lieu à Chatou le 10 mai 2026\, dans une ambiance sportive ouverte aux coureurs de tous niveaux. Que vous visiez un record personnel ou que vous souhaitiez simplement profiter du parcours\, l'événement promet une belle journée de course à Chatou.
LOCATION:Chatou
URL:https://sportplan.vercel.app/ja/events/paris-saint-germain-en-laye-chatou-2026-05-10
END:VEVENT
END:VCALENDAR
