BEGIN:VCALENDAR
VERSION:2.0
PRODID:-//SportPlan//Event Calendar//EN
CALSCALE:GREGORIAN
BEGIN:VEVENT
UID:56bb9b7b-2cc9-4750-8954-becfe80f9c01@sportplan.local
DTSTAMP:20260422T021038Z
DTSTART;VALUE=DATE:20260919
DTEND;VALUE=DATE:20260920
SUMMARY:Pantelimon TriKids by Unstoppable 2026
DESCRIPTION:Pantelimon TriKids by Unstoppable 2026 is an official Romanian youth triathlon on 19 September 2026 in București. The Romanian Triathlon Federation event page lists Unstoppable Sport Club as organizer and publishes the event-specific official page and image for this participant-facing TriKids race.
LOCATION:București
URL:https://sportplan.vercel.app/ja/events/pantelimon-trikids-by-unstoppable-2026-bucuresti-2026-09-19
END:VEVENT
END:VCALENDAR
