BEGIN:VCALENDAR
VERSION:2.0
PRODID:-//SportPlan//Event Calendar//EN
CALSCALE:GREGORIAN
BEGIN:VEVENT
UID:53039f21-1df2-4d78-802e-e978544238d2@sportplan.local
DTSTAMP:20260422T015742Z
DTSTART;VALUE=DATE:20260502
DTEND;VALUE=DATE:20260503
SUMMARY:NZ Masters Marathon Championships 2026
DESCRIPTION:NZ Masters Marathon Championships 2026 is the official New Zealand masters marathon championship event on 2 May 2026 in Rotorua. Athletics New Zealand lists the championship on the same weekend as the Red Stag Rotorua Marathon and confirms that affiliated members can contest the title as part of the iconic Lake Rotorua marathon festival.
LOCATION:Rotorua\, Bay of Plenty
URL:https://sportplan.vercel.app/ja/events/nz-masters-marathon-championships-2026-rotorua-2026-05-02
END:VEVENT
END:VCALENDAR
