BEGIN:VCALENDAR
VERSION:2.0
PRODID:-//SportPlan//Event Calendar//EN
CALSCALE:GREGORIAN
BEGIN:VEVENT
UID:4ffbd589-d9d2-492e-9720-0b713b7f7b45@sportplan.local
DTSTAMP:20260422T015748Z
DTSTART;VALUE=DATE:20260801
DTEND;VALUE=DATE:20260802
SUMMARY:NZ Cross Country Championships 2026
DESCRIPTION:NZ Cross Country Championships 2026 is the official New Zealand cross country championship event on 1 August 2026 at Hagley Park in Christchurch. Athletics New Zealand lists it as one of the returning winter championships for 2026\, making it a safe official championship fixture for amateur club runners and age-group athletes.
LOCATION:Hagley Park\, Christchurch
URL:https://sportplan.vercel.app/ja/events/nz-cross-country-championships-2026-christchurch-2026-08-01
END:VEVENT
END:VCALENDAR
