BEGIN:VCALENDAR
VERSION:2.0
PRODID:-//SportPlan//Event Calendar//EN
CALSCALE:GREGORIAN
BEGIN:VEVENT
UID:66455a77-363b-4daf-9501-31195a6d0e9d@sportplan.local
DTSTAMP:20260422T015625Z
DTSTART;VALUE=DATE:20260801
DTEND;VALUE=DATE:20260802
SUMMARY:Norseman Xtreme Triathlon 2026
DESCRIPTION:Norseman Xtreme Triathlon 2026 arrangeres 1. august 2026 i Eidfjord\, Vestland. Dette er et godt valg for deltakere som ønsker en godt organisert sportslig utfordring og en sterk arrangementsopplevelse. Den oppgitte distansen er 226 km\, noe som gjør det enklere å planlegge fart\, trening og logistikk.
LOCATION:Eidfjord\, Vestland
URL:https://sportplan.vercel.app/ja/events/norseman-xtreme-triathlon-2026-eidfjord-2026-08-01
END:VEVENT
END:VCALENDAR
