BEGIN:VCALENDAR
VERSION:2.0
PRODID:-//SportPlan//Event Calendar//EN
CALSCALE:GREGORIAN
BEGIN:VEVENT
UID:16e4c2a5-4501-4e9b-8896-92367ae66f69@sportplan.local
DTSTAMP:20260421T215544Z
DTSTART;VALUE=DATE:20260704
DTEND;VALUE=DATE:20260705
SUMMARY:Mtri Castellón
DESCRIPTION:Official MTRI Castellón page on the Mediterránea Triatlón organizer site. The page confirms the 4 to 5 July 2026 race weekend in Grao de Castellón with Sprint\, Olímpico\, Supersprint\, and Duatlón Familiar formats open to federated and non-federated participants.
LOCATION:Castellón de la Plana
URL:https://sportplan.vercel.app/ja/events/mtri-castellon-castellon-de-la-plana-2026-07-04
END:VEVENT
END:VCALENDAR
