BEGIN:VCALENDAR
VERSION:2.0
PRODID:-//SportPlan//Event Calendar//EN
CALSCALE:GREGORIAN
BEGIN:VEVENT
UID:4f083e5a-5331-485d-b87d-e623e183f53e@sportplan.local
DTSTAMP:20260421T212130Z
DTSTART;VALUE=DATE:20260516
DTEND;VALUE=DATE:20260517
SUMMARY:Mtri Alicante 2026
DESCRIPTION:Official MTRI Alicante page on the Mediterránea Triatlón organizer site. The page confirms the 16 to 17 May 2026 race weekend in Alicante with Sprint\, Olímpico\, Supersprint\, and Duatlón Familiar formats open to federated and non-federated participants.
LOCATION:Alicante (Alacant)
URL:https://sportplan.vercel.app/ja/events/mtri-alicante-2026
END:VEVENT
END:VCALENDAR
