BEGIN:VCALENDAR
VERSION:2.0
PRODID:-//SportPlan//Event Calendar//EN
CALSCALE:GREGORIAN
BEGIN:VEVENT
UID:255804a2-36ad-445d-b330-619e334fdee6@sportplan.local
DTSTAMP:20260421T184653Z
DTSTART;VALUE=DATE:20260111
DTEND;VALUE=DATE:20260112
SUMMARY:Mitja Marató de Sitges 2026
DESCRIPTION:Official Mitja Marató de Sitges site for the 2026 half marathon in Sitges\, Catalonia. The organizer-owned website is the participant-facing home for this amateur-enterable coastal road race and publishes current event information at mitjasitges.cat.
LOCATION:Sitges\, Barcelona
URL:https://sportplan.vercel.app/ja/events/mitja-marat-de-sitges-2026-sitges-2026-01-11
END:VEVENT
END:VCALENDAR
