BEGIN:VCALENDAR
VERSION:2.0
PRODID:-//SportPlan//Event Calendar//EN
CALSCALE:GREGORIAN
BEGIN:VEVENT
UID:e2b3cefd-762f-4109-b5f2-fc0fc110ae33@sportplan.local
DTSTAMP:20260421T184756Z
DTSTART;VALUE=DATE:20260201
DTEND;VALUE=DATE:20260202
SUMMARY:Miami Marathon 2026
DESCRIPTION:Official Life Time Miami Marathon and Half site for Miami's flagship winter road-race weekend. The organizer presents the event as an annual mass-participation marathon and half marathon through Miami and South Beach\, finishing at Bayfront Park along the waterfront.
LOCATION:Miami\, Florida
URL:https://sportplan.vercel.app/ja/events/miami-marathon-2026-miami-2026-02-01
END:VEVENT
END:VCALENDAR
