BEGIN:VCALENDAR
VERSION:2.0
PRODID:-//SportPlan//Event Calendar//EN
CALSCALE:GREGORIAN
BEGIN:VEVENT
UID:fad6ee84-46f1-4fb2-84dc-05b154bc024b@sportplan.local
DTSTAMP:20260422T015113Z
DTSTART;VALUE=DATE:20260711
DTEND;VALUE=DATE:20260712
SUMMARY:Megavalanche Alpe d'Huez 2026
DESCRIPTION:Megavalanche Alpe d'Huez 2026 aura lieu le 11 juillet 2026 à Alpe d'Huez\, Isère. C'est un rendez-vous idéal pour les participants qui recherchent une épreuve bien organisée sur une distance de 30 km dans une ambiance sportive conviviale. Prendre le départ de cet événement est une belle occasion de profiter du parcours\, de se fixer un objectif et de partager la course avec d'autres passionnés.
LOCATION:Alpe d'Huez\, Isère
URL:https://sportplan.vercel.app/ja/events/megavalanche-alpe-d-huez-2026
END:VEVENT
END:VCALENDAR
