BEGIN:VCALENDAR
VERSION:2.0
PRODID:-//SportPlan//Event Calendar//EN
CALSCALE:GREGORIAN
BEGIN:VEVENT
UID:1e09a9ef-e104-4fc6-a8f7-8975592e079c@sportplan.local
DTSTAMP:20260421T202245Z
DTSTART;VALUE=DATE:20260425
DTEND;VALUE=DATE:20260426
SUMMARY:Mediterranean Epic Gran Fondo 2026
DESCRIPTION:Mediterranean Epic Gran Fondo 2026 is an amateur-enterable road-cycling event in Oropesa del Mar\, Castellón on 25 April 2026. The official event page presents three participant route options of 198 km\, 160 km\, and 110 km across the province of Castellón\, with event operations and rider information hosted on the organizer-owned Mediterranean Epic domain.
LOCATION:Oropesa del Mar
URL:https://sportplan.vercel.app/ja/events/mediterranean-epic-gran-fondo-2026
END:VEVENT
END:VCALENDAR
