BEGIN:VCALENDAR
VERSION:2.0
PRODID:-//SportPlan//Event Calendar//EN
CALSCALE:GREGORIAN
BEGIN:VEVENT
UID:d0284814-7bfc-4159-889d-8cc22a6bfabf@sportplan.local
DTSTAMP:20260421T190853Z
DTSTART;VALUE=DATE:20260201
DTEND;VALUE=DATE:20260202
SUMMARY:Media Maratón Sant Cugat 2026
DESCRIPTION:Official Mitja Sant Cugat site for the 2026 half marathon in Sant Cugat del Vallès. The organizer site serves race information and event updates for an amateur-enterable road-running event near Barcelona.
LOCATION:Sant Cugat\, Barcelona
URL:https://sportplan.vercel.app/ja/events/media-marat-n-sant-cugat-2026-sant-cugat-2026-02-01
END:VEVENT
END:VCALENDAR
