BEGIN:VCALENDAR
VERSION:2.0
PRODID:-//SportPlan//Event Calendar//EN
CALSCALE:GREGORIAN
BEGIN:VEVENT
UID:dfca0dc3-d037-4fcd-a669-8cc5fb34484b@sportplan.local
DTSTAMP:20260421T191015Z
DTSTART;VALUE=DATE:20260125
DTEND;VALUE=DATE:20260126
SUMMARY:Media Maratón Castellón 2026
DESCRIPTION:Official Marató bp Castelló site for the 2026 race weekend in Castelló. The organizer site confirms the 22 February 2026 event date for Marató bp Castelló and 10K FACSA Castelló\, publishes participant information\, and serves as the safest official participant-facing source for this race family.
LOCATION:Castellón\, Castellón
URL:https://sportplan.vercel.app/ja/events/media-marat-n-castell-n-2026-castell-n-2026-01-25
END:VEVENT
END:VCALENDAR
