BEGIN:VCALENDAR
VERSION:2.0
PRODID:-//SportPlan//Event Calendar//EN
CALSCALE:GREGORIAN
BEGIN:VEVENT
UID:f46195f4-e17a-475f-95c4-db5b93d16783@sportplan.local
DTSTAMP:20260421T184605Z
DTSTART;VALUE=DATE:20260125
DTEND;VALUE=DATE:20260126
SUMMARY:Marrakech Marathon 2026
DESCRIPTION:Marrakech Marathon 2026 is an official amateur road running event in Marrakech\, Morocco on 25 January 2026. The official race site presents the Marrakech International Marathon as a major international winter race with a fast city course and open marathon and half-marathon participation centered around Place de la Koutoubia.
LOCATION:Marrakech\, Marrakech-Safi
URL:https://sportplan.vercel.app/ja/events/marrakech-marathon-2026-marrakech-2026-01-25
END:VEVENT
END:VCALENDAR
