BEGIN:VCALENDAR
VERSION:2.0
PRODID:-//SportPlan//Event Calendar//EN
CALSCALE:GREGORIAN
BEGIN:VEVENT
UID:1981e079-379f-4e08-9872-93d60288989a@sportplan.local
DTSTAMP:20260421T213749Z
DTSTART;VALUE=DATE:20260428
DTEND;VALUE=DATE:20260429
SUMMARY:Marató d'Empúries
DESCRIPTION:Marató d'Empúries se celebrará el 28 de abril de 2026 en l'Escala-Empúries\, Girona\, Cataluña. Es una buena opción para quienes buscan sumar una experiencia deportiva bien organizada sobre una distancia de unos 42 km. Ideal tanto para participantes habituales como para quienes quieren marcarse un nuevo reto en el calendario.
LOCATION:l'Escala-Empúries\, Girona\, Cataluña
URL:https://sportplan.vercel.app/ja/events/marato-d-empuries-l-escala-empuries-2026-04-28-42k
END:VEVENT
END:VCALENDAR
