BEGIN:VCALENDAR
VERSION:2.0
PRODID:-//SportPlan//Event Calendar//EN
CALSCALE:GREGORIAN
BEGIN:VEVENT
UID:87f2ba87-c28f-4ed7-879b-02550703633b@sportplan.local
DTSTAMP:20260421T184813Z
DTSTART;VALUE=DATE:20260201
DTEND;VALUE=DATE:20260202
SUMMARY:Manila Marathon 2026
DESCRIPTION:Official 44th PAL Manila Marathon site for the long-running annual mass-participation road race in Metro Manila. The official event site presents runner-facing race information and event history for the 2026 Manila Marathon edition.
LOCATION:Manila\, Metro Manila
URL:https://sportplan.vercel.app/ja/events/manila-marathon-2026-manila-2026-02-01
END:VEVENT
END:VCALENDAR
