BEGIN:VCALENDAR
VERSION:2.0
PRODID:-//SportPlan//Event Calendar//EN
CALSCALE:GREGORIAN
BEGIN:VEVENT
UID:a341adc6-f719-49ad-b2c4-6b6745c1b928@sportplan.local
DTSTAMP:20260421T184745Z
DTSTART;VALUE=DATE:20260109
DTEND;VALUE=DATE:20260110
SUMMARY:Luxor Marathon 2026
DESCRIPTION:Official Egyptian Marathon site for the 34th Egyptian Marathon in Luxor. The organizer highlights the race start below the Temple of Queen Hatshepsut and presents the event as the oldest ongoing marathon in Africa and the Middle East\, with registration and travel-package information on the official site.
LOCATION:Luxor\, Luxor
URL:https://sportplan.vercel.app/ja/events/luxor-marathon-2026-luxor-2026-01-09
END:VEVENT
END:VCALENDAR
