BEGIN:VCALENDAR
VERSION:2.0
PRODID:-//SportPlan//Event Calendar//EN
CALSCALE:GREGORIAN
BEGIN:VEVENT
UID:1311a68a-8358-4f11-9ab6-a2c653b0526f@sportplan.local
DTSTAMP:20260421T200614Z
DTSTART;VALUE=DATE:20261011
DTEND;VALUE=DATE:20261012
SUMMARY:Les 20 Km de Paris
DESCRIPTION:Les 20 Km de Paris aura lieu le 11 octobre 2026 à París. C'est un rendez-vous idéal pour les participants en quête d'une organisation solide et d'une belle ambiance de course. Une épreuve pensée autant pour viser la performance que pour profiter pleinement de l'expérience sur place.
LOCATION:París
URL:https://sportplan.vercel.app/ja/events/les-20-km-de-paris-paris-2026-10-11
END:VEVENT
END:VCALENDAR
