BEGIN:VCALENDAR
VERSION:2.0
PRODID:-//SportPlan//Event Calendar//EN
CALSCALE:GREGORIAN
BEGIN:VEVENT
UID:66bf97c4-557d-4996-a9ac-b6ae9bebbc54@sportplan.local
DTSTAMP:20260421T200738Z
DTSTART;VALUE=DATE:20260301
DTEND;VALUE=DATE:20260302
SUMMARY:Last Lap Backyard Ultra
DESCRIPTION:Last Lap Backyard Ultra is described on the official Andomita page as a backyard ultra\, where runners must complete 6.706 km within each hour and continue lap by lap until only one finisher remains.
LOCATION:Miami Platja\, Tarragona\, Cataluña
URL:https://sportplan.vercel.app/ja/events/last-lap-backyard-ultra-miami-platja-2026-03-01-6-7k
END:VEVENT
END:VCALENDAR
