BEGIN:VCALENDAR
VERSION:2.0
PRODID:-//SportPlan//Event Calendar//EN
CALSCALE:GREGORIAN
BEGIN:VEVENT
UID:5b81b97b-65b0-4b54-b4d5-1dfabfcad771@sportplan.local
DTSTAMP:20260422T015623Z
DTSTART;VALUE=DATE:20260425
DTEND;VALUE=DATE:20260426
SUMMARY:Lake Norman State Park Sprint
DESCRIPTION:Lake Norman State Park Sprint is a participant-facing amateur triathlon at Lake Norman State Park in Troutman\, North Carolina on 25 April 2026. The official RunSignup race page publishes open registration\, venue details\, an 8:00 am start\, and the sprint-format distances of a 750 m swim\, 18 mile bike\, and 5K run.
LOCATION:Troutman
URL:https://sportplan.vercel.app/ja/events/lake-norman-state-park-sprint-troutman-2026-04-25
END:VEVENT
END:VCALENDAR
