BEGIN:VCALENDAR
VERSION:2.0
PRODID:-//SportPlan//Event Calendar//EN
CALSCALE:GREGORIAN
BEGIN:VEVENT
UID:98a0f2e7-3183-483f-9f57-09c062f2eae3@sportplan.local
DTSTAMP:20260421T215343Z
DTSTART;VALUE=DATE:20260207
DTEND;VALUE=DATE:20260208
SUMMARY:La Trace Raquettes Praz-de-Lys 2026
DESCRIPTION:La Trace Raquettes Praz-de-Lys 2026 uses the official organizer domain latraceraquettes.com as its canonical participant-facing website for the snowshoe event in Praz-de-Lys.
LOCATION:Praz-de-Lys\, Haute-Savoie
URL:https://sportplan.vercel.app/ja/events/la-trace-raquettes-praz-de-lys-2026-praz-de-lys-2026-02-07
END:VEVENT
END:VCALENDAR
