BEGIN:VCALENDAR
VERSION:2.0
PRODID:-//SportPlan//Event Calendar//EN
CALSCALE:GREGORIAN
BEGIN:VEVENT
UID:9b1f3d1d-eda5-4429-995a-22e50fa6838c@sportplan.local
DTSTAMP:20260421T224056Z
DTSTART;VALUE=DATE:20260606
DTEND;VALUE=DATE:20260607
SUMMARY:La Indomable 2026
DESCRIPTION:
LOCATION:Berja
URL:https://sportplan.vercel.app/ja/events/la-indomable-2026
END:VEVENT
END:VCALENDAR
