BEGIN:VCALENDAR
VERSION:2.0
PRODID:-//SportPlan//Event Calendar//EN
CALSCALE:GREGORIAN
BEGIN:VEVENT
UID:6959fdba-91dc-4a5c-9708-4e6429c8221c@sportplan.local
DTSTAMP:20260421T224849Z
DTSTART;VALUE=DATE:20260124
DTEND;VALUE=DATE:20260125
SUMMARY:La Foulée Blanche Ski Nordique 42K 2026
DESCRIPTION:Official La Foulée Blanche site for the Vercors nordic ski and trail event family. The organizer presents La Foulée Blanche as an outdoor event provider in the Vercors with nordic skiing\, trail running\, single-day races\, and connected challenges for broad public participation.
LOCATION:Autrans\, Isère
URL:https://sportplan.vercel.app/ja/events/la-foul-e-blanche-ski-nordique-42k-2026-autrans-2026-01-24
END:VEVENT
END:VCALENDAR
