BEGIN:VCALENDAR
VERSION:2.0
PRODID:-//SportPlan//Event Calendar//EN
CALSCALE:GREGORIAN
BEGIN:VEVENT
UID:52c8953d-de67-471f-92ad-bf40953a0f13@sportplan.local
DTSTAMP:20260421T200914Z
DTSTART;VALUE=DATE:20260704
DTEND;VALUE=DATE:20260705
SUMMARY:La Course Entre Mer et Forêt
DESCRIPTION:La Course Entre Mer et Forêt aura lieu le 4 juillet 2026 à Le Touquet-Paris-Plage. C'est un rendez-vous intéressant pour les participants à la recherche d'une expérience sportive bien organisée et d'une ambiance motivante. Consultez les informations officielles de l'événement pour connaître les horaires\, le parcours et les détails logistiques.
LOCATION:Le Touquet-Paris-Plage
URL:https://sportplan.vercel.app/ja/events/la-course-entre-mer-et-foret-le-touquet-paris-plage-2026-07-04
END:VEVENT
END:VCALENDAR
