BEGIN:VCALENDAR
VERSION:2.0
PRODID:-//SportPlan//Event Calendar//EN
CALSCALE:GREGORIAN
BEGIN:VEVENT
UID:4cc028b1-5f57-4118-b57a-a34551308471@sportplan.local
DTSTAMP:20260421T200714Z
DTSTART;VALUE=DATE:20260524
DTEND;VALUE=DATE:20260525
SUMMARY:La Course du Château de Vincennes
DESCRIPTION:
LOCATION:París
URL:https://sportplan.vercel.app/ja/events/la-course-du-chateau-de-vincennes-paris-2026-05-24
END:VEVENT
END:VCALENDAR
