BEGIN:VCALENDAR
VERSION:2.0
PRODID:-//SportPlan//Event Calendar//EN
CALSCALE:GREGORIAN
BEGIN:VEVENT
UID:e9c909fc-ca0f-4493-86e2-4ac99c729fe1@sportplan.local
DTSTAMP:20260421T185835Z
DTSTART;VALUE=DATE:20260215
DTEND;VALUE=DATE:20260216
SUMMARY:Kyoto Marathon 2026
DESCRIPTION:Official Kyoto Marathon 2026 site. The organizer presents Kyoto Marathon 2026 as an official mass-participation road race in Kyoto and notes that detailed race information will be announced in mid-July 2026.
LOCATION:Kyoto\, Kyoto
URL:https://sportplan.vercel.app/ja/events/kyoto-marathon-2026-kyoto-2026-02-15
END:VEVENT
END:VCALENDAR
