BEGIN:VCALENDAR
VERSION:2.0
PRODID:-//SportPlan//Event Calendar//EN
CALSCALE:GREGORIAN
BEGIN:VEVENT
UID:0e8e3710-02df-4b3b-8fce-442a9011643d@sportplan.local
DTSTAMP:20260421T215543Z
DTSTART;VALUE=DATE:20260614
DTEND;VALUE=DATE:20260615
SUMMARY:Jedermann-Rennen Rund Um Köln 2026
DESCRIPTION:Jedermann-Rennen Rund Um Köln 2026 findet am 14. Juni 2026 in Cologne\, Nordrhein-Westfalen statt. Diese Veranstaltung bietet ein gut organisiertes Lauferlebnis\, mit einer Strecke von etwa 100 km. Freuen Sie sich auf eine motivierende Atmosphäre\, eine klare sportliche Herausforderung und einen starken Renntag in Cologne\, Nordrhein-Westfalen.
LOCATION:Cologne\, Nordrhein-Westfalen
URL:https://sportplan.vercel.app/ja/events/jedermann-rennen-rund-um-k-ln-2026-cologne-2026-06-14
END:VEVENT
END:VCALENDAR
