BEGIN:VCALENDAR
VERSION:2.0
PRODID:-//SportPlan//Event Calendar//EN
CALSCALE:GREGORIAN
BEGIN:VEVENT
UID:034752e8-f9ab-4718-9ab5-5a08275d1e56@sportplan.local
DTSTAMP:20260421T215415Z
DTSTART;VALUE=DATE:20260607
DTEND;VALUE=DATE:20260608
SUMMARY:IRONMAN Hamburg
DESCRIPTION:IRONMAN Hamburg is an official full-distance triathlon in Hamburg\, Germany on 7 June 2026. The canonical IRONMAN race page provides registration\, course\, schedule\, travel\, and host-city sections for amateur participation.
LOCATION:Hamburg\, Germany
URL:https://sportplan.vercel.app/ja/events/ironman-hamburg-2026-hamburg-2026-06-07
END:VEVENT
END:VCALENDAR
