BEGIN:VCALENDAR
VERSION:2.0
PRODID:-//SportPlan//Event Calendar//EN
CALSCALE:GREGORIAN
BEGIN:VEVENT
UID:9a6f7a46-6d63-424f-bfb5-8dacfa1f4462@sportplan.local
DTSTAMP:20260421T213747Z
DTSTART;VALUE=DATE:20260503
DTEND;VALUE=DATE:20260504
SUMMARY:IRONMAN 70.3 Western Sydney
DESCRIPTION:IRONMAN 70.3 Western Sydney is an official middle-distance triathlon in Penrith\, Australia on 3 May 2026. The canonical IRONMAN race page provides registration\, course\, schedule\, relay\, travel\, and host-city sections for amateur participation.
LOCATION:Penrith\, Australia
URL:https://sportplan.vercel.app/ja/events/ironman-70-3-western-sydney-penrith-2026-05-03
END:VEVENT
END:VCALENDAR
