BEGIN:VCALENDAR
VERSION:2.0
PRODID:-//SportPlan//Event Calendar//EN
CALSCALE:GREGORIAN
BEGIN:VEVENT
UID:c57e5001-4313-4d6a-beb7-b59caf38a203@sportplan.local
DTSTAMP:20260422T020224Z
DTSTART;VALUE=DATE:20260503
DTEND;VALUE=DATE:20260504
SUMMARY:IRONMAN 70.3 Venice-Jesolo
DESCRIPTION:IRONMAN 70.3 Venice-Jesolo is an official middle-distance triathlon in Jesolo\, Italy on 3 May 2026. The canonical IRONMAN race page provides registration\, course\, schedule\, relay\, travel\, and host-city sections for amateur participation.
LOCATION:Jesolo\, Italy
URL:https://sportplan.vercel.app/ja/events/ironman-70-3-venice-jesolo-jesolo-2026-05-03
END:VEVENT
END:VCALENDAR
