BEGIN:VCALENDAR
VERSION:2.0
PRODID:-//SportPlan//Event Calendar//EN
CALSCALE:GREGORIAN
BEGIN:VEVENT
UID:5312b89d-2459-4ff3-8c33-30a91e4d3268@sportplan.local
DTSTAMP:20260422T015742Z
DTSTART;VALUE=DATE:20260809
DTEND;VALUE=DATE:20260810
SUMMARY:Ironman 70.3 Gdynia 2026
DESCRIPTION:Ironman 70.3 Gdynia 2026 is scheduled for August 9\, 2026 in Gdynia\, Pomerania. It offers a great opportunity to enjoy a well-organized sporting event with a strong atmosphere and an engaging course. With an expected distance of 113 km\, it should appeal both to regular participants and to anyone looking for a fresh challenge.
LOCATION:Gdynia\, Pomerania
URL:https://sportplan.vercel.app/ja/events/ironman-70-3-gdynia-2026-gdynia-2026-08-09
END:VEVENT
END:VCALENDAR
