BEGIN:VCALENDAR
VERSION:2.0
PRODID:-//SportPlan//Event Calendar//EN
CALSCALE:GREGORIAN
BEGIN:VEVENT
UID:a1119d63-6b6d-4c30-844b-27a9d5820da7@sportplan.local
DTSTAMP:20260422T021407Z
DTSTART;VALUE=DATE:20260307
DTEND;VALUE=DATE:20260308
SUMMARY:Inscriciones Presenciales XII Carrera Mujeres y Hombres por la Igualdad en Toledo. — Marcha
DESCRIPTION:
LOCATION:Toledo
URL:https://sportplan.vercel.app/ja/events/inscriciones-presenciales-xii-carrera-mujeres-y-hombres-por-la-igualdad-en-toledo-marcha-toledo-2026-03-07
END:VEVENT
END:VCALENDAR
