BEGIN:VCALENDAR
VERSION:2.0
PRODID:-//SportPlan//Event Calendar//EN
CALSCALE:GREGORIAN
BEGIN:VEVENT
UID:e63fba59-53f3-4042-81a9-42b297ee58f0@sportplan.local
DTSTAMP:20260421T200924Z
DTSTART;VALUE=DATE:20260308
DTEND;VALUE=DATE:20260309
SUMMARY:III Cursa 4 Termes Kids
DESCRIPTION:Cursa 4 Termes is presented on the official organizer site as a trail-running and walking weekend in Mont-roig del Camp\, with the 2026 edition scheduled for 14 and 15 March and multiple participant formats including trail races\, a walk\, and youth events.
LOCATION:Mont-roig del Camp\, Tarragona\, Cataluña
URL:https://sportplan.vercel.app/ja/events/iii-cursa-4-termes-kids-mont-roig-del-camp-2026-03-08
END:VEVENT
END:VCALENDAR
