BEGIN:VCALENDAR
VERSION:2.0
PRODID:-//SportPlan//Event Calendar//EN
CALSCALE:GREGORIAN
BEGIN:VEVENT
UID:e8194a39-3c6a-4126-81a7-988255234285@sportplan.local
DTSTAMP:20260421T185419Z
DTSTART;VALUE=DATE:20260221
DTEND;VALUE=DATE:20260222
SUMMARY:Hyrox Zurich 2026
DESCRIPTION:With over 40+ global races in 2023 seeing over 90\,000 athletes &amp\; 50\,000 spectators\, welcome to the World Series of Fitness Racing.
LOCATION:Zurich\, Zurich
URL:https://sportplan.vercel.app/ja/events/hyrox-zurich-2026-zurich-2026-02-21
END:VEVENT
END:VCALENDAR
