BEGIN:VCALENDAR
VERSION:2.0
PRODID:-//SportPlan//Event Calendar//EN
CALSCALE:GREGORIAN
BEGIN:VEVENT
UID:a0ecccfd-67b1-46b5-ae11-c0964f76ca93@sportplan.local
DTSTAMP:20260421T184751Z
DTSTART;VALUE=DATE:20260314
DTEND;VALUE=DATE:20260315
SUMMARY:Hyrox Toronto 2026
DESCRIPTION:GoodLife HYROX Toronto is listed on the official HYROX event calendar as the Toronto edition of the fitness racing series. The official event page presents this as a participant-facing Canadian HYROX race under the global HYROX registration and event program.
LOCATION:Toronto\, Ontario
URL:https://sportplan.vercel.app/ja/events/hyrox-toronto-2026-toronto-2026-03-14
END:VEVENT
END:VCALENDAR
