BEGIN:VCALENDAR
VERSION:2.0
PRODID:-//SportPlan//Event Calendar//EN
CALSCALE:GREGORIAN
BEGIN:VEVENT
UID:dd861a80-3218-4def-8af0-b39348286e64@sportplan.local
DTSTAMP:20260421T184818Z
DTSTART;VALUE=DATE:20260222
DTEND;VALUE=DATE:20260223
SUMMARY:Hyrox Tokyo 2026
DESCRIPTION:Official HYROX Japan race page for AirAsia HYROX Chiba\, the public participant-facing HYROX event page currently used for the 22 February 2026 Japan race. The official HYROX event page publishes the city-specific race entry point and official event imagery on hyrox.com.
LOCATION:Tokyo\, Tokyo
URL:https://sportplan.vercel.app/ja/events/hyrox-tokyo-2026-tokyo-2026-02-22
END:VEVENT
END:VCALENDAR
