BEGIN:VCALENDAR
VERSION:2.0
PRODID:-//SportPlan//Event Calendar//EN
CALSCALE:GREGORIAN
BEGIN:VEVENT
UID:d8335944-fd8c-430e-af76-703b8c023f87@sportplan.local
DTSTAMP:20260421T185636Z
DTSTART;VALUE=DATE:20260124
DTEND;VALUE=DATE:20260125
SUMMARY:Hyrox Singapore 2026
DESCRIPTION:AIA HYROX Singapore 2026 is the official HYROX race page for the Singapore stop of the global fitness-racing series. The organizer-owned HYROX event page hosts participant-facing race information for the 24 January 2026 competition in Singapore.
LOCATION:Singapore\, Singapore
URL:https://sportplan.vercel.app/ja/events/hyrox-singapore-2026-singapore-2026-01-24
END:VEVENT
END:VCALENDAR
