BEGIN:VCALENDAR
VERSION:2.0
PRODID:-//SportPlan//Event Calendar//EN
CALSCALE:GREGORIAN
BEGIN:VEVENT
UID:b37cfe55-deda-4dfe-95f6-e3287a353c11@sportplan.local
DTSTAMP:20260421T200546Z
DTSTART;VALUE=DATE:20261212
DTEND;VALUE=DATE:20261221
SUMMARY:FITNESS PARK HYROX Paris 2026
DESCRIPTION:FITNESS PARK HYROX Paris 2026 is a seven-day mass-participation HYROX race across two December race windows at Paris Expo Porte de Versailles. The official event page describes open participation across divisions\, including first-timers alongside elite competitors.
LOCATION:Paris
URL:https://sportplan.vercel.app/ja/events/hyrox-paris-2026-paris-2026-02-14
END:VEVENT
END:VCALENDAR
