BEGIN:VCALENDAR
VERSION:2.0
PRODID:-//SportPlan//Event Calendar//EN
CALSCALE:GREGORIAN
BEGIN:VEVENT
UID:14334dab-4d6c-4b27-9270-0171481105c2@sportplan.local
DTSTAMP:20260421T224435Z
DTSTART;VALUE=DATE:20261205
DTEND;VALUE=DATE:20261207
SUMMARY:HYROX Milan 2026
DESCRIPTION:HYROX Milan 2026 marks the event’s return to Milan at Fiera Milano Rho. The official HYROX page lists a two-day amateur-enterable race weekend on 5 and 6 December 2026.
LOCATION:Milan\, Lombardia
URL:https://sportplan.vercel.app/ja/events/hyrox-milan-2026-milan-2026-01-31
END:VEVENT
END:VCALENDAR
