BEGIN:VCALENDAR
VERSION:2.0
PRODID:-//SportPlan//Event Calendar//EN
CALSCALE:GREGORIAN
BEGIN:VEVENT
UID:48212a36-bb01-48e3-9b93-3ab3527dba1d@sportplan.local
DTSTAMP:20260421T185637Z
DTSTART;VALUE=DATE:20260411
DTEND;VALUE=DATE:20260413
SUMMARY:HYROX London ExCel 2026
DESCRIPTION:Official HYROX London ExCel event page for the major London fitness race weekend. The official page confirms the event runs from 2 to 6 December 2026 at ExCeL London and positions it as HYROX London returning on a record-setting scale for amateur-enterable singles\, doubles\, and relay racing.
LOCATION:London\, England
URL:https://sportplan.vercel.app/ja/events/hyrox-london-2026-london-2026-04-11
END:VEVENT
END:VCALENDAR
