BEGIN:VCALENDAR
VERSION:2.0
PRODID:-//SportPlan//Event Calendar//EN
CALSCALE:GREGORIAN
BEGIN:VEVENT
UID:f8698486-14f9-4f9f-a1f4-da9d91727b67@sportplan.local
DTSTAMP:20260421T213452Z
DTSTART;VALUE=DATE:20260724
DTEND;VALUE=DATE:20260727
SUMMARY:Masters' Union HYROX Delhi 2026
DESCRIPTION:Masters' Union HYROX Delhi 2026 is the official HYROX Delhi race weekend\, scheduled from 24 to 26 July 2026 at Yashobhoomi (IICC) in New Delhi. The official organizer page presents amateur-enterable solo\, doubles\, and relay divisions for the opening weekend of the 2026/27 HYROX season.
LOCATION:Yashobhoomi (IICC)\, New Delhi\, India
URL:https://sportplan.vercel.app/ja/events/hyrox-delhi-2026-07-24
END:VEVENT
END:VCALENDAR
