BEGIN:VCALENDAR
VERSION:2.0
PRODID:-//SportPlan//Event Calendar//EN
CALSCALE:GREGORIAN
BEGIN:VEVENT
UID:411bc738-3d1f-4b35-a809-317ed0d04080@sportplan.local
DTSTAMP:20260421T185952Z
DTSTART;VALUE=DATE:20260321
DTEND;VALUE=DATE:20260322
SUMMARY:GilletteLabs HYROX Berlin 2026
DESCRIPTION:Official HYROX Berlin event page for the 2026 Berlin fitness race. The official HYROX listing provides the canonical event page\, ticketing path\, and athlete information for the amateur-enterable Berlin race weekend.
LOCATION:Berlin\, Berlin
URL:https://sportplan.vercel.app/ja/events/hyrox-berlin-2026-berlin-2026-03-21
END:VEVENT
END:VCALENDAR
