BEGIN:VCALENDAR
VERSION:2.0
PRODID:-//SportPlan//Event Calendar//EN
CALSCALE:GREGORIAN
BEGIN:VEVENT
UID:938ad4d4-c6ae-4bd9-a5bf-13fe5688e9f4@sportplan.local
DTSTAMP:20260421T224451Z
DTSTART;VALUE=DATE:20260606
DTEND;VALUE=DATE:20260607
SUMMARY:Granfondo Stelvio Santini 2026
DESCRIPTION:Granfondo Stelvio Santini 2026 si svolge il 6 giugno 2026 a Bormio\, Lombardia. È un'ottima scelta per chi desidera vivere un evento ben organizzato in questa località. La gara si sviluppa su 151 km. L'atmosfera si preannuncia coinvolgente e la giornata memorabile\, sia per i partecipanti esperti sia per chi è alla prima esperienza.
LOCATION:Bormio\, Lombardia
URL:https://sportplan.vercel.app/ja/events/granfondo-stelvio-santini-2026-bormio-2026-06-06
END:VEVENT
END:VCALENDAR
