BEGIN:VCALENDAR
VERSION:2.0
PRODID:-//SportPlan//Event Calendar//EN
CALSCALE:GREGORIAN
BEGIN:VEVENT
UID:e9354fef-2ebd-42c3-b3e7-e8d93479d1f1@sportplan.local
DTSTAMP:20260421T215414Z
DTSTART;VALUE=DATE:20260517
DTEND;VALUE=DATE:20260518
SUMMARY:Granfondo Nove Colli 2026
DESCRIPTION:Granfondo Nove Colli 2026 si terrà il 17 maggio 2026 a Cesenatico\, Emilia-Romagna\, offrendo ai partecipanti una giornata di corsa in un contesto coinvolgente. Con una distanza di 200 km\, la prova propone una sfida equilibrata tra ritmo\, resistenza e atmosfera di gara.
LOCATION:Cesenatico\, Emilia-Romagna
URL:https://sportplan.vercel.app/ja/events/granfondo-nove-colli-2026-cesenatico-2026-05-17
END:VEVENT
END:VCALENDAR
