BEGIN:VCALENDAR
VERSION:2.0
PRODID:-//SportPlan//Event Calendar//EN
CALSCALE:GREGORIAN
BEGIN:VEVENT
UID:260f538c-8440-4342-aaed-0e1489954bf7@sportplan.local
DTSTAMP:20260422T015112Z
DTSTART;VALUE=DATE:20260424
DTEND;VALUE=DATE:20260427
SUMMARY:Grand Raid Ventoux
DESCRIPTION:Grand Raid Ventoux a lieu à Malaucène le 24 avril 2026. C’est un rendez-vous parfait pour profiter d’une belle journée de course\, avec une belle ambiance de course et un parcours adapté à différents profils de coureurs. Que vous visiez la performance ou une expérience plus conviviale\, l’événement promet une ambiance motivante du début à la fin.
LOCATION:Malaucène
URL:https://sportplan.vercel.app/ja/events/grand-raid-ventoux-malaucene-2026-04-24
END:VEVENT
END:VCALENDAR
