BEGIN:VCALENDAR
VERSION:2.0
PRODID:-//SportPlan//Event Calendar//EN
CALSCALE:GREGORIAN
BEGIN:VEVENT
UID:31325959-79a7-4b41-b72e-e28be9981345@sportplan.local
DTSTAMP:20260421T200759Z
DTSTART;VALUE=DATE:20260301
DTEND;VALUE=DATE:20260302
SUMMARY:Galar Trail Mendi Lasterketa
DESCRIPTION:Galar Trail Mendi Lasterketa is presented on the official Galar Trail site as part of the renewed Galar Trail 2.0 project in the Cendea de Galar\, with a redesigned mountain-race format built around community volunteering\, local villages\, and the northern side of the Sierra de Erreniega.
LOCATION:Esparza\, Navarra\, Navarra
URL:https://sportplan.vercel.app/ja/events/galar-trail-mendi-lasterketa-esparza-2026-03-01-18-5k
END:VEVENT
END:VCALENDAR
