BEGIN:VCALENDAR
VERSION:2.0
PRODID:-//SportPlan//Event Calendar//EN
CALSCALE:GREGORIAN
BEGIN:VEVENT
UID:58c63bee-d47e-406f-b626-18005801918b@sportplan.local
DTSTAMP:20260421T212948Z
DTSTART;VALUE=DATE:20260510
DTEND;VALUE=DATE:20260511
SUMMARY:Fred Whitton Challenge Lake District 2026
DESCRIPTION:Fred Whitton Challenge Lake District 2026 takes place in Grasmere\, England on May 10\, 2026\, bringing runners together for a memorable race-day atmosphere. Whether you're aiming for a personal best or simply want to enjoy the course over 185 km\, this event offers a motivating experience in Grasmere\, England.
LOCATION:Grasmere\, England
URL:https://sportplan.vercel.app/ja/events/fred-whitton-challenge-lake-district-2026-grasmere-2026-05-10
END:VEVENT
END:VCALENDAR
