BEGIN:VCALENDAR
VERSION:2.0
PRODID:-//SportPlan//Event Calendar//EN
CALSCALE:GREGORIAN
BEGIN:VEVENT
UID:7f4b34eb-ff80-478e-83e8-db42a6642bad@sportplan.local
DTSTAMP:20260421T174514Z
DTSTART;VALUE=DATE:20260413
DTEND;VALUE=DATE:20260420
SUMMARY:Fip Silver Sevilla 2026
DESCRIPTION:The official Padel FIP Sevilla event page now resolves to FIP Bronze Iconico Sports 2026 in Sevilla\, Spain from 15 to 19 April 2026. This repair updates the canonical official URL to the live FIP destination and adds the official event poster from the same source.
LOCATION:Sevilla
URL:https://sportplan.vercel.app/ja/events/fip-silver-sevilla-2026
END:VEVENT
END:VCALENDAR
