BEGIN:VCALENDAR
VERSION:2.0
PRODID:-//SportPlan//Event Calendar//EN
CALSCALE:GREGORIAN
BEGIN:VEVENT
UID:af81b2b7-4388-4d18-b36d-ed8cbad289b7@sportplan.local
DTSTAMP:20260422T002138Z
DTSTART;VALUE=DATE:20260420
DTEND;VALUE=DATE:20260427
SUMMARY:Fip Bronze Isla de la Palma 2026
DESCRIPTION:Official FIP event page for FIP Bronze Aquahobby Isla de la Palma 2026 in Isla de la Palma\, Spain\, scheduled from 21 to 26 April 2026 as part of the Cupra FIP Tour.
LOCATION:Santa Cruz de La Palma
URL:https://sportplan.vercel.app/ja/events/fip-bronze-isla-de-la-palma-2026
END:VEVENT
END:VCALENDAR
